BEGIN:VCALENDAR
VERSION:2.0
PRODID:-//Middle Island Fire Department - ECPv6.15.20//NONSGML v1.0//EN
CALSCALE:GREGORIAN
METHOD:PUBLISH
X-ORIGINAL-URL:https://www.middleislandfd.com
X-WR-CALDESC:Events for Middle Island Fire Department
REFRESH-INTERVAL;VALUE=DURATION:PT1H
X-Robots-Tag:noindex
X-PUBLISHED-TTL:PT1H
BEGIN:VTIMEZONE
TZID:America/New_York
BEGIN:DAYLIGHT
TZOFFSETFROM:-0500
TZOFFSETTO:-0400
TZNAME:EDT
DTSTART:20250309T070000
END:DAYLIGHT
BEGIN:STANDARD
TZOFFSETFROM:-0400
TZOFFSETTO:-0500
TZNAME:EST
DTSTART:20251102T060000
END:STANDARD
BEGIN:DAYLIGHT
TZOFFSETFROM:-0500
TZOFFSETTO:-0400
TZNAME:EDT
DTSTART:20260308T070000
END:DAYLIGHT
BEGIN:STANDARD
TZOFFSETFROM:-0400
TZOFFSETTO:-0500
TZNAME:EST
DTSTART:20261101T060000
END:STANDARD
BEGIN:DAYLIGHT
TZOFFSETFROM:-0500
TZOFFSETTO:-0400
TZNAME:EDT
DTSTART:20270314T070000
END:DAYLIGHT
BEGIN:STANDARD
TZOFFSETFROM:-0400
TZOFFSETTO:-0500
TZNAME:EST
DTSTART:20271107T060000
END:STANDARD
END:VTIMEZONE
BEGIN:VTIMEZONE
TZID:America/Halifax
BEGIN:DAYLIGHT
TZOFFSETFROM:-0400
TZOFFSETTO:-0300
TZNAME:ADT
DTSTART:20250309T060000
END:DAYLIGHT
BEGIN:STANDARD
TZOFFSETFROM:-0300
TZOFFSETTO:-0400
TZNAME:AST
DTSTART:20251102T050000
END:STANDARD
BEGIN:DAYLIGHT
TZOFFSETFROM:-0400
TZOFFSETTO:-0300
TZNAME:ADT
DTSTART:20260308T060000
END:DAYLIGHT
BEGIN:STANDARD
TZOFFSETFROM:-0300
TZOFFSETTO:-0400
TZNAME:AST
DTSTART:20261101T050000
END:STANDARD
BEGIN:DAYLIGHT
TZOFFSETFROM:-0400
TZOFFSETTO:-0300
TZNAME:ADT
DTSTART:20270314T060000
END:DAYLIGHT
BEGIN:STANDARD
TZOFFSETFROM:-0300
TZOFFSETTO:-0400
TZNAME:AST
DTSTART:20271107T050000
END:STANDARD
END:VTIMEZONE
BEGIN:VEVENT
DTSTART;TZID=America/New_York:20260919T160000
DTEND;TZID=America/New_York:20260919T220000
DTSTAMP:20260423T193555
CREATED:20241228T181736Z
LAST-MODIFIED:20260112T010151Z
UID:40578-1789833600-1789855200@www.middleislandfd.com
SUMMARY:2026 MIFD Basket Auction
DESCRIPTION:MIFD 2026 Basket Auction \n \nStay tuned as we get closer for a full list of baskets\, big ticket items\, and gift cards that will be up for grabs!
URL:https://www.middleislandfd.com/event/basketauction/
LOCATION:Middle Island Fire Department Headquarters\, 31 Arnold Drive\, Middle Island\, NY\, 11953\, United States
END:VEVENT
BEGIN:VEVENT
DTSTART;VALUE=DATE:20261219
DTEND;VALUE=DATE:20261220
DTSTAMP:20260423T193555
CREATED:20231204T175939Z
LAST-MODIFIED:20260112T010821Z
UID:37773-1797638400-1797724799@www.middleislandfd.com
SUMMARY:2026 Santa Parade
DESCRIPTION:  \n\nFor 2026\, we will be starting on the WEST side of Middle Island.\nThis parade takes days to organize and hours to prepare the vehicles for the parade\nWe will do our best to be on schedule!\nStarting at 3PM on December 19th\, there will be a live Santa Tracker to see where we are on the parade route.\n\nAccess the LIVE SANTA TRACKER – CLICK HERE\n  \n\n2026 Parade Route \nThe Parade Route will be posted approximately 3 weeks prior to the parade.\n  \n 
URL:https://www.middleislandfd.com/event/santa/
LOCATION:NY
CATEGORIES:Department Events
END:VEVENT
END:VCALENDAR